{
 "currentVersion": 10.51,
 "serviceDescription": "",
 "mapName": "Layers",
 "description": "",
 "copyrightText": "",
 "supportsDynamicLayers": false,
 "layers": [
  {
   "id": 0,
   "name": "lawica_wysokosc_zabudowy",
   "parentLayerId": -1,
   "defaultVisibility": true,
   "subLayerIds": null,
   "minScale": 0,
   "maxScale": 0
  }
 ],
 "tables": [],
 "spatialReference": {
  "wkid": 2177,
  "latestWkid": 2177
 },
 "singleFusedMapCache": true,
 "tileInfo": {
  "rows": 256,
  "cols": 256,
  "dpi": 91,
  "format": "PNG",
  "compressionQuality": 0,
  "origin": {
   "x": 6390979.51122,
   "y": 6078869.00659
  },
  "spatialReference": {
   "wkid": 2177,
   "latestWkid": 2177
  },
  "lods": [
   {
    "level": 0,
    "resolution": 142.910175930242,
    "scale": 512000
   },
   {
    "level": 1,
    "resolution": 71.455087965121,
    "scale": 256000
   },
   {
    "level": 2,
    "resolution": 35.7275439825605,
    "scale": 128000
   },
   {
    "level": 3,
    "resolution": 17.86377199128025,
    "scale": 64000
   },
   {
    "level": 4,
    "resolution": 8.931885995640124,
    "scale": 32000
   },
   {
    "level": 5,
    "resolution": 4.465942997820062,
    "scale": 16000
   }
  ]
 },
 "initialExtent": {
  "xmin": 6404424.46829382,
  "ymin": 5805393.589010896,
  "xmax": 6440047.127561098,
  "ymax": 5826789.706800515,
  "spatialReference": {
   "wkid": 2177,
   "latestWkid": 2177
  }
 },
 "fullExtent": {
  "xmin": 6400157.188342318,
  "ymin": 5799559.128573698,
  "xmax": 6444314.407512612,
  "ymax": 5821212.904416582,
  "spatialReference": {
   "wkid": 2177,
   "latestWkid": 2177
  }
 },
 "minScale": 512000,
 "maxScale": 16000,
 "units": "esriMeters",
 "supportedImageFormatTypes": "PNG32,PNG24,PNG,JPG,DIB,TIFF,EMF,PS,PDF,GIF,SVG,SVGZ,BMP",
 "documentInfo": {
  "Title": "",
  "Author": "",
  "Comments": "",
  "Subject": "",
  "Category": "",
  "AntialiasingMode": "None",
  "TextAntialiasingMode": "Force",
  "Keywords": ""
 },
 "capabilities": "Data,Map",
 "supportedQueryFormats": "JSON, AMF, geoJSON",
 "exportTilesAllowed": false,
 "supportsDatumTransformation": true,
 "maxRecordCount": 1000,
 "maxImageHeight": 4096,
 "maxImageWidth": 4096,
 "supportedExtensions": "WCSServer, WMSServer"
}
