{
 "currentVersion": 10.51,
 "serviceDescription": "Raster mapy glebowo-rolnej",
 "mapName": "Layers",
 "description": "",
 "copyrightText": "",
 "supportsDynamicLayers": false,
 "layers": [
  {
   "id": 0,
   "name": "mapa_glebowo_rolna",
   "parentLayerId": -1,
   "defaultVisibility": true,
   "subLayerIds": [
    1,
    2,
    3
   ],
   "minScale": 0,
   "maxScale": 0
  },
  {
   "id": 1,
   "name": "mapa_glebowo_rolna_boundary",
   "parentLayerId": 0,
   "defaultVisibility": false,
   "subLayerIds": null,
   "minScale": 0,
   "maxScale": 0
  },
  {
   "id": 2,
   "name": "mapa_glebowo_rolna_footprint",
   "parentLayerId": 0,
   "defaultVisibility": false,
   "subLayerIds": null,
   "minScale": 0,
   "maxScale": 0
  },
  {
   "id": 3,
   "name": "mapa_glebowo_rolna_image",
   "parentLayerId": 0,
   "defaultVisibility": true,
   "subLayerIds": null,
   "minScale": 0,
   "maxScale": 0
  }
 ],
 "tables": [],
 "spatialReference": {
  "wkid": 2177,
  "latestWkid": 2177
 },
 "singleFusedMapCache": true,
 "tileInfo": {
  "rows": 256,
  "cols": 256,
  "dpi": 91,
  "format": "PNG24",
  "compressionQuality": 0,
  "origin": {
   "x": 6390979.51122,
   "y": 6078869.00659
  },
  "spatialReference": {
   "wkid": 2177,
   "latestWkid": 2177
  },
  "lods": [
   {
    "level": 0,
    "resolution": 571.640703720968,
    "scale": 2048000
   },
   {
    "level": 1,
    "resolution": 285.820351860484,
    "scale": 1024000
   },
   {
    "level": 2,
    "resolution": 142.910175930242,
    "scale": 512000
   },
   {
    "level": 3,
    "resolution": 71.455087965121,
    "scale": 256000
   },
   {
    "level": 4,
    "resolution": 35.7275439825605,
    "scale": 128000
   },
   {
    "level": 5,
    "resolution": 17.86377199128025,
    "scale": 64000
   },
   {
    "level": 6,
    "resolution": 8.931885995640124,
    "scale": 32000
   },
   {
    "level": 7,
    "resolution": 4.465942997820062,
    "scale": 16000
   },
   {
    "level": 8,
    "resolution": 2.232971498910031,
    "scale": 8000
   },
   {
    "level": 9,
    "resolution": 1.1164857494550156,
    "scale": 4000
   },
   {
    "level": 10,
    "resolution": 0.5582428747275078,
    "scale": 2000
   },
   {
    "level": 11,
    "resolution": 0.2791214373637539,
    "scale": 1000
   },
   {
    "level": 12,
    "resolution": 0.13956071868187694,
    "scale": 500
   },
   {
    "level": 13,
    "resolution": 0.06978035934093847,
    "scale": 250
   }
  ]
 },
 "initialExtent": {
  "xmin": 6406975.611082716,
  "ymin": 5804205.337391849,
  "xmax": 6443606.392960036,
  "ymax": 5822220.476020039,
  "spatialReference": {
   "wkid": 2177,
   "latestWkid": 2177
  }
 },
 "fullExtent": {
  "xmin": 6413721.1969,
  "ymin": 5795852.86402787,
  "xmax": 6436860.807142752,
  "ymax": 5820964.875448982,
  "spatialReference": {
   "wkid": 2177,
   "latestWkid": 2177
  }
 },
 "minScale": 256000,
 "maxScale": 250,
 "units": "esriMeters",
 "supportedImageFormatTypes": "PNG32,PNG24,PNG,JPG,DIB,TIFF,EMF,PS,PDF,GIF,SVG,SVGZ,BMP",
 "documentInfo": {
  "Title": "",
  "Author": "",
  "Comments": "Raster ortofotomapy z okresu powodzi w 2010 roku",
  "Subject": "Ortofotomapa 2010 z okresu powodzi",
  "Category": "",
  "AntialiasingMode": "None",
  "TextAntialiasingMode": "None",
  "Keywords": "raster,ortofotomapa"
 },
 "capabilities": "Map",
 "supportedQueryFormats": "JSON, AMF, geoJSON",
 "exportTilesAllowed": false,
 "supportsDatumTransformation": true,
 "maxRecordCount": 1000,
 "maxImageHeight": 4096,
 "maxImageWidth": 4096,
 "supportedExtensions": "WCSServer, WMSServer"
}
